BEGIN:VCALENDAR
VERSION:2.0
PRODID:-//TEILHABEN - ECPv6.15.20//NONSGML v1.0//EN
CALSCALE:GREGORIAN
METHOD:PUBLISH
X-ORIGINAL-URL:https://teilhaben.ch
X-WR-CALDESC:Veranstaltungen im TEILHABEN
REFRESH-INTERVAL;VALUE=DURATION:PT1H
X-Robots-Tag:noindex
X-PUBLISHED-TTL:PT1H
BEGIN:VTIMEZONE
TZID:UTC
BEGIN:STANDARD
TZOFFSETFROM:+0000
TZOFFSETTO:+0000
TZNAME:UTC
DTSTART:20250101T000000
END:STANDARD
END:VTIMEZONE
BEGIN:VEVENT
DTSTART;TZID=UTC:20260106T103000
DTEND;TZID=UTC:20260106T140000
DTSTAMP:20260419T152648
CREATED:20250630T083302Z
LAST-MODIFIED:20250630T083647Z
UID:10000501-1767695400-1767708000@teilhaben.ch
SUMMARY:Tavolata
DESCRIPTION:Viele Köche verderben den Brei!? Im Gegenteil! Mit Unterstützung aller Teilnehmenden kochen wir leckere Gerichte und geniessen diese in fröhlicher Runde. \nMit der Bitte um Anmeldung bis am vorhergehenden Montag unter Tel. 061 863 00 46. \nUnkostenbeitrag ca. Fr. 15.-
URL:https://teilhaben.ch/event/traff-zentrums-or-some-other-longer-title-2-2/2026-01-06/
LOCATION:ZentrumsTräff\, Wallbach\, 4323\, Switzerland
CATEGORIES:Zentrums Träff
ATTACH;FMTTYPE=image/jpeg:https://teilhaben.ch/wp-content/uploads/Tavolata-2-scaled-e1718354990620.jpg
ORGANIZER;CN="TEILHABEN":MAILTO:verein@teilhaben.ch
END:VEVENT
BEGIN:VEVENT
DTSTART;TZID=UTC:20260107T100000
DTEND;TZID=UTC:20260107T170000
DTSTAMP:20260419T152648
CREATED:20250630T085235Z
LAST-MODIFIED:20250630T093536Z
UID:10000544-1767780000-1767805200@teilhaben.ch
SUMMARY:Ankerplatz Demenz
DESCRIPTION:Ein Freizeitangebot für alle\, die jung an Demenz erkrankt sind und gerne zusammen mit anderen Zeit verbringen möchten. \nBei Interesse freuen wir uns auf die Kontaktaufnahme und das Kennenlerngespräch. Tel. 061 863 00 46 oder Email an info@ankerplatz-demenz.ch \nWeitere Informationen finden sich auf der Webseite www.ankerplatz-demenz.ch
URL:https://teilhaben.ch/event/ankerplatz-demenz/2026-01-07/
LOCATION:ZentrumsTräff\, Wallbach\, 4323\, Switzerland
CATEGORIES:Zentrums Träff
ATTACH;FMTTYPE=image/png:https://teilhaben.ch/wp-content/uploads/Screenshot-2025-06-30-105030.png
ORGANIZER;CN="TEILHABEN":MAILTO:verein@teilhaben.ch
END:VEVENT
BEGIN:VEVENT
DTSTART;TZID=UTC:20260108T090000
DTEND;TZID=UTC:20260108T110000
DTSTAMP:20260419T152649
CREATED:20230816T110224Z
LAST-MODIFIED:20250630T082236Z
UID:10000460-1767862800-1767870000@teilhaben.ch
SUMMARY:Kafiegge
DESCRIPTION:Hier trifft sich wer andere treffen möchte; zum Kaffee trinken\, plaudern\, vorbeischauen\, mithelfen\, diskutieren\, informieren und entspannen. \n 
URL:https://teilhaben.ch/event/kafiegge/2026-01-08/
LOCATION:ZentrumsTräff\, Wallbach\, 4323\, Switzerland
CATEGORIES:Zentrums Träff
ATTACH;FMTTYPE=image/jpeg:https://teilhaben.ch/wp-content/uploads/Kafiegge-big.jpg
ORGANIZER;CN="TEILHABEN":MAILTO:verein@teilhaben.ch
END:VEVENT
BEGIN:VEVENT
DTSTART;TZID=UTC:20260113T140000
DTEND;TZID=UTC:20260113T163000
DTSTAMP:20260419T152649
CREATED:20230818T050105Z
LAST-MODIFIED:20260309T150515Z
UID:10000516-1768312800-1768321800@teilhaben.ch
SUMMARY:Nomittags-Kafi
DESCRIPTION:Am NOMITTAGS-KAFI hat alles Platz\, zum Beispiel…\n– Kaffee trinken\n– kurz oder länger verschnaufen\n– Leute treffen\n– spielen\, jassen\, stricken\n– einfach da sein
URL:https://teilhaben.ch/event/nomittags-kafi/2026-01-13/
LOCATION:ZentrumsTräff\, Wallbach\, 4323\, Switzerland
CATEGORIES:Zentrums Träff
ATTACH;FMTTYPE=image/jpeg:https://teilhaben.ch/wp-content/uploads/Screenshot-2025-06-30-104600.jpg
ORGANIZER;CN="TEILHABEN":MAILTO:verein@teilhaben.ch
END:VEVENT
BEGIN:VEVENT
DTSTART;TZID=UTC:20260114T100000
DTEND;TZID=UTC:20260114T170000
DTSTAMP:20260419T152649
CREATED:20250630T085235Z
LAST-MODIFIED:20250630T093536Z
UID:10000545-1768384800-1768410000@teilhaben.ch
SUMMARY:Ankerplatz Demenz
DESCRIPTION:Ein Freizeitangebot für alle\, die jung an Demenz erkrankt sind und gerne zusammen mit anderen Zeit verbringen möchten. \nBei Interesse freuen wir uns auf die Kontaktaufnahme und das Kennenlerngespräch. Tel. 061 863 00 46 oder Email an info@ankerplatz-demenz.ch \nWeitere Informationen finden sich auf der Webseite www.ankerplatz-demenz.ch
URL:https://teilhaben.ch/event/ankerplatz-demenz/2026-01-14/
LOCATION:ZentrumsTräff\, Wallbach\, 4323\, Switzerland
CATEGORIES:Zentrums Träff
ATTACH;FMTTYPE=image/png:https://teilhaben.ch/wp-content/uploads/Screenshot-2025-06-30-105030.png
ORGANIZER;CN="TEILHABEN":MAILTO:verein@teilhaben.ch
END:VEVENT
BEGIN:VEVENT
DTSTART;TZID=UTC:20260115T090000
DTEND;TZID=UTC:20260115T110000
DTSTAMP:20260419T152649
CREATED:20230816T110224Z
LAST-MODIFIED:20250630T082236Z
UID:10000461-1768467600-1768474800@teilhaben.ch
SUMMARY:Kafiegge
DESCRIPTION:Hier trifft sich wer andere treffen möchte; zum Kaffee trinken\, plaudern\, vorbeischauen\, mithelfen\, diskutieren\, informieren und entspannen. \n 
URL:https://teilhaben.ch/event/kafiegge/2026-01-15/
LOCATION:ZentrumsTräff\, Wallbach\, 4323\, Switzerland
CATEGORIES:Zentrums Träff
ATTACH;FMTTYPE=image/jpeg:https://teilhaben.ch/wp-content/uploads/Kafiegge-big.jpg
ORGANIZER;CN="TEILHABEN":MAILTO:verein@teilhaben.ch
END:VEVENT
BEGIN:VEVENT
DTSTART;TZID=UTC:20260120T143000
DTEND;TZID=UTC:20260120T170000
DTSTAMP:20260419T152649
CREATED:20230816T112519Z
LAST-MODIFIED:20250630T082913Z
UID:10000489-1768919400-1768928400@teilhaben.ch
SUMMARY:Erzählcafé mit Heinz Lüthi
DESCRIPTION:Einer Geschichte lauschen. Sich Anregungen holen. Zeit in Gesellschaft verbringen. Nicht allein sein. Gedankenaustausch pflegen. Mitdiskutieren oder einfach zuhören. In den Kaffeepausen plaudern. Erfahrungen sammeln bei Geselligkeit und Lebensfreude.
URL:https://teilhaben.ch/event/erzahlcafe-mit-heinz-luthi/2026-01-20/
LOCATION:ZentrumsTräff\, Wallbach\, 4323\, Switzerland
CATEGORIES:Zentrums Träff
ATTACH;FMTTYPE=image/jpeg:https://teilhaben.ch/wp-content/uploads/Erzahlcafe-big.jpg
ORGANIZER;CN="TEILHABEN":MAILTO:verein@teilhaben.ch
END:VEVENT
BEGIN:VEVENT
DTSTART;TZID=UTC:20260121T100000
DTEND;TZID=UTC:20260121T170000
DTSTAMP:20260419T152649
CREATED:20250630T085235Z
LAST-MODIFIED:20250630T093536Z
UID:10000546-1768989600-1769014800@teilhaben.ch
SUMMARY:Ankerplatz Demenz
DESCRIPTION:Ein Freizeitangebot für alle\, die jung an Demenz erkrankt sind und gerne zusammen mit anderen Zeit verbringen möchten. \nBei Interesse freuen wir uns auf die Kontaktaufnahme und das Kennenlerngespräch. Tel. 061 863 00 46 oder Email an info@ankerplatz-demenz.ch \nWeitere Informationen finden sich auf der Webseite www.ankerplatz-demenz.ch
URL:https://teilhaben.ch/event/ankerplatz-demenz/2026-01-21/
LOCATION:ZentrumsTräff\, Wallbach\, 4323\, Switzerland
CATEGORIES:Zentrums Träff
ATTACH;FMTTYPE=image/png:https://teilhaben.ch/wp-content/uploads/Screenshot-2025-06-30-105030.png
ORGANIZER;CN="TEILHABEN":MAILTO:verein@teilhaben.ch
END:VEVENT
BEGIN:VEVENT
DTSTART;TZID=UTC:20260121T143000
DTEND;TZID=UTC:20260121T170000
DTSTAMP:20260419T152649
CREATED:20230816T112519Z
LAST-MODIFIED:20250630T082913Z
UID:10000490-1769005800-1769014800@teilhaben.ch
SUMMARY:Erzählcafé mit Heinz Lüthi
DESCRIPTION:Einer Geschichte lauschen. Sich Anregungen holen. Zeit in Gesellschaft verbringen. Nicht allein sein. Gedankenaustausch pflegen. Mitdiskutieren oder einfach zuhören. In den Kaffeepausen plaudern. Erfahrungen sammeln bei Geselligkeit und Lebensfreude.
URL:https://teilhaben.ch/event/erzahlcafe-mit-heinz-luthi/2026-01-21/
LOCATION:ZentrumsTräff\, Wallbach\, 4323\, Switzerland
CATEGORIES:Zentrums Träff
ATTACH;FMTTYPE=image/jpeg:https://teilhaben.ch/wp-content/uploads/Erzahlcafe-big.jpg
ORGANIZER;CN="TEILHABEN":MAILTO:verein@teilhaben.ch
END:VEVENT
BEGIN:VEVENT
DTSTART;TZID=UTC:20260122T090000
DTEND;TZID=UTC:20260122T110000
DTSTAMP:20260419T152649
CREATED:20230816T110224Z
LAST-MODIFIED:20250630T082236Z
UID:10000462-1769072400-1769079600@teilhaben.ch
SUMMARY:Kafiegge
DESCRIPTION:Hier trifft sich wer andere treffen möchte; zum Kaffee trinken\, plaudern\, vorbeischauen\, mithelfen\, diskutieren\, informieren und entspannen. \n 
URL:https://teilhaben.ch/event/kafiegge/2026-01-22/
LOCATION:ZentrumsTräff\, Wallbach\, 4323\, Switzerland
CATEGORIES:Zentrums Träff
ATTACH;FMTTYPE=image/jpeg:https://teilhaben.ch/wp-content/uploads/Kafiegge-big.jpg
ORGANIZER;CN="TEILHABEN":MAILTO:verein@teilhaben.ch
END:VEVENT
BEGIN:VEVENT
DTSTART;TZID=UTC:20260127T120000
DTEND;TZID=UTC:20260127T140000
DTSTAMP:20260419T152649
CREATED:20240628T050601Z
LAST-MODIFIED:20250630T084929Z
UID:10000524-1769515200-1769522400@teilhaben.ch
SUMMARY:Suppen z'Mittag
DESCRIPTION:In der kalten und dunklen Jahreszeit eine warme Suppe geniessen erwärmt Körper und Seele. \nWir bitten um Anmeldung bis am vorhergehenden Freitag unter Tel. 061 863 00 46 oder anmeldung@teilhaben.ch. \nDie Platzzahl ist beschränkt. Bitte mitteilen\, wenn eine vegetarische Suppe gewünscht wird. Richtpreis ins Kässeli: \nErwachsene Fr. 12.- \nKinder 6 – 18 Jahre Fr. 6.-  \nKinder 0 – 6 Jahre gratis
URL:https://teilhaben.ch/event/suppen-zmittag/2026-01-27/
LOCATION:ZentrumsTräff\, Wallbach\, 4323\, Switzerland
CATEGORIES:Zentrums Träff
ATTACH;FMTTYPE=image/png:https://teilhaben.ch/wp-content/uploads/Screenshot-2024-06-28-090956.png
ORGANIZER;CN="TEILHABEN":MAILTO:verein@teilhaben.ch
END:VEVENT
BEGIN:VEVENT
DTSTART;TZID=UTC:20260128T100000
DTEND;TZID=UTC:20260128T170000
DTSTAMP:20260419T152649
CREATED:20250630T085235Z
LAST-MODIFIED:20250630T093536Z
UID:10000547-1769594400-1769619600@teilhaben.ch
SUMMARY:Ankerplatz Demenz
DESCRIPTION:Ein Freizeitangebot für alle\, die jung an Demenz erkrankt sind und gerne zusammen mit anderen Zeit verbringen möchten. \nBei Interesse freuen wir uns auf die Kontaktaufnahme und das Kennenlerngespräch. Tel. 061 863 00 46 oder Email an info@ankerplatz-demenz.ch \nWeitere Informationen finden sich auf der Webseite www.ankerplatz-demenz.ch
URL:https://teilhaben.ch/event/ankerplatz-demenz/2026-01-28/
LOCATION:ZentrumsTräff\, Wallbach\, 4323\, Switzerland
CATEGORIES:Zentrums Träff
ATTACH;FMTTYPE=image/png:https://teilhaben.ch/wp-content/uploads/Screenshot-2025-06-30-105030.png
ORGANIZER;CN="TEILHABEN":MAILTO:verein@teilhaben.ch
END:VEVENT
BEGIN:VEVENT
DTSTART;TZID=UTC:20260129T090000
DTEND;TZID=UTC:20260129T110000
DTSTAMP:20260419T152649
CREATED:20230816T110224Z
LAST-MODIFIED:20250630T082236Z
UID:10000463-1769677200-1769684400@teilhaben.ch
SUMMARY:Kafiegge
DESCRIPTION:Hier trifft sich wer andere treffen möchte; zum Kaffee trinken\, plaudern\, vorbeischauen\, mithelfen\, diskutieren\, informieren und entspannen. \n 
URL:https://teilhaben.ch/event/kafiegge/2026-01-29/
LOCATION:ZentrumsTräff\, Wallbach\, 4323\, Switzerland
CATEGORIES:Zentrums Träff
ATTACH;FMTTYPE=image/jpeg:https://teilhaben.ch/wp-content/uploads/Kafiegge-big.jpg
ORGANIZER;CN="TEILHABEN":MAILTO:verein@teilhaben.ch
END:VEVENT
END:VCALENDAR