BEGIN:VCALENDAR
VERSION:2.0
PRODID:-//TEILHABEN - ECPv6.15.20//NONSGML v1.0//EN
CALSCALE:GREGORIAN
METHOD:PUBLISH
X-WR-CALNAME:TEILHABEN
X-ORIGINAL-URL:https://teilhaben.ch
X-WR-CALDESC:Veranstaltungen im TEILHABEN
REFRESH-INTERVAL;VALUE=DURATION:PT1H
X-Robots-Tag:noindex
X-PUBLISHED-TTL:PT1H
BEGIN:VTIMEZONE
TZID:UTC
BEGIN:STANDARD
TZOFFSETFROM:+0000
TZOFFSETTO:+0000
TZNAME:UTC
DTSTART:20250101T000000
END:STANDARD
END:VTIMEZONE
BEGIN:VEVENT
DTSTART;TZID=UTC:20260621T143000
DTEND;TZID=UTC:20260621T163000
DTSTAMP:20260420T012323
CREATED:20230820T161538Z
LAST-MODIFIED:20251009T072135Z
UID:10000511-1782052200-1782059400@teilhaben.ch
SUMMARY:Stubete
DESCRIPTION:Singen stärkt die Abwehrkräfte\, bringt den Kreislauf in Schwung und macht glücklich. \nDas Zusammensein am Nachmittag\, mit viel Musik\, entlässt dich beschwingt in den Sonntagabend.
URL:https://teilhaben.ch/event/stubete/2026-06-21/
CATEGORIES:Zentrums Träff
ATTACH;FMTTYPE=image/png:https://teilhaben.ch/wp-content/uploads/Stubete-2.png
END:VEVENT
BEGIN:VEVENT
DTSTART;TZID=UTC:20260624T100000
DTEND;TZID=UTC:20260624T170000
DTSTAMP:20260420T012323
CREATED:20250630T085235Z
LAST-MODIFIED:20250630T093536Z
UID:10000568-1782295200-1782320400@teilhaben.ch
SUMMARY:Ankerplatz Demenz
DESCRIPTION:Ein Freizeitangebot für alle\, die jung an Demenz erkrankt sind und gerne zusammen mit anderen Zeit verbringen möchten. \nBei Interesse freuen wir uns auf die Kontaktaufnahme und das Kennenlerngespräch. Tel. 061 863 00 46 oder Email an info@ankerplatz-demenz.ch \nWeitere Informationen finden sich auf der Webseite www.ankerplatz-demenz.ch
URL:https://teilhaben.ch/event/ankerplatz-demenz/2026-06-24/
LOCATION:ZentrumsTräff\, Wallbach\, 4323\, Switzerland
CATEGORIES:Zentrums Träff
ATTACH;FMTTYPE=image/png:https://teilhaben.ch/wp-content/uploads/Screenshot-2025-06-30-105030.png
ORGANIZER;CN="TEILHABEN":MAILTO:verein@teilhaben.ch
END:VEVENT
END:VCALENDAR