BEGIN:VCALENDAR
VERSION:2.0
PRODID:-//TEILHABEN - ECPv6.15.20//NONSGML v1.0//EN
CALSCALE:GREGORIAN
METHOD:PUBLISH
X-WR-CALNAME:TEILHABEN
X-ORIGINAL-URL:https://teilhaben.ch
X-WR-CALDESC:Veranstaltungen im TEILHABEN
REFRESH-INTERVAL;VALUE=DURATION:PT1H
X-Robots-Tag:noindex
X-PUBLISHED-TTL:PT1H
BEGIN:VTIMEZONE
TZID:UTC
BEGIN:STANDARD
TZOFFSETFROM:+0000
TZOFFSETTO:+0000
TZNAME:UTC
DTSTART:20240101T000000
END:STANDARD
END:VTIMEZONE
BEGIN:VEVENT
DTSTART;TZID=UTC:20251111T140000
DTEND;TZID=UTC:20251111T163000
DTSTAMP:20260420T061545
CREATED:20230818T050105Z
LAST-MODIFIED:20260309T150515Z
UID:10000514-1762869600-1762878600@teilhaben.ch
SUMMARY:Nomittags-Kafi
DESCRIPTION:Am NOMITTAGS-KAFI hat alles Platz\, zum Beispiel…\n– Kaffee trinken\n– kurz oder länger verschnaufen\n– Leute treffen\n– spielen\, jassen\, stricken\n– einfach da sein
URL:https://teilhaben.ch/event/nomittags-kafi/2025-11-11/
LOCATION:ZentrumsTräff\, Wallbach\, 4323\, Switzerland
CATEGORIES:Zentrums Träff
ATTACH;FMTTYPE=image/jpeg:https://teilhaben.ch/wp-content/uploads/Screenshot-2025-06-30-104600.jpg
ORGANIZER;CN="TEILHABEN":MAILTO:verein@teilhaben.ch
END:VEVENT
BEGIN:VEVENT
DTSTART;TZID=UTC:20251106T090000
DTEND;TZID=UTC:20251106T110000
DTSTAMP:20260420T061545
CREATED:20230816T110224Z
LAST-MODIFIED:20250630T082236Z
UID:10000453-1762419600-1762426800@teilhaben.ch
SUMMARY:Kafiegge
DESCRIPTION:Hier trifft sich wer andere treffen möchte; zum Kaffee trinken\, plaudern\, vorbeischauen\, mithelfen\, diskutieren\, informieren und entspannen. \n 
URL:https://teilhaben.ch/event/kafiegge/2025-11-06/
LOCATION:ZentrumsTräff\, Wallbach\, 4323\, Switzerland
CATEGORIES:Zentrums Träff
ATTACH;FMTTYPE=image/jpeg:https://teilhaben.ch/wp-content/uploads/Kafiegge-big.jpg
ORGANIZER;CN="TEILHABEN":MAILTO:verein@teilhaben.ch
END:VEVENT
BEGIN:VEVENT
DTSTART;TZID=UTC:20251105T100000
DTEND;TZID=UTC:20251105T170000
DTSTAMP:20260420T061545
CREATED:20250630T085235Z
LAST-MODIFIED:20250630T093536Z
UID:10000537-1762336800-1762362000@teilhaben.ch
SUMMARY:Ankerplatz Demenz
DESCRIPTION:Ein Freizeitangebot für alle\, die jung an Demenz erkrankt sind und gerne zusammen mit anderen Zeit verbringen möchten. \nBei Interesse freuen wir uns auf die Kontaktaufnahme und das Kennenlerngespräch. Tel. 061 863 00 46 oder Email an info@ankerplatz-demenz.ch \nWeitere Informationen finden sich auf der Webseite www.ankerplatz-demenz.ch
URL:https://teilhaben.ch/event/ankerplatz-demenz/2025-11-05/
LOCATION:ZentrumsTräff\, Wallbach\, 4323\, Switzerland
CATEGORIES:Zentrums Träff
ATTACH;FMTTYPE=image/png:https://teilhaben.ch/wp-content/uploads/Screenshot-2025-06-30-105030.png
ORGANIZER;CN="TEILHABEN":MAILTO:verein@teilhaben.ch
END:VEVENT
BEGIN:VEVENT
DTSTART;TZID=UTC:20251104T103000
DTEND;TZID=UTC:20251104T140000
DTSTAMP:20260420T061545
CREATED:20250630T083302Z
LAST-MODIFIED:20250630T083647Z
UID:10000499-1762252200-1762264800@teilhaben.ch
SUMMARY:Tavolata
DESCRIPTION:Viele Köche verderben den Brei!? Im Gegenteil! Mit Unterstützung aller Teilnehmenden kochen wir leckere Gerichte und geniessen diese in fröhlicher Runde. \nMit der Bitte um Anmeldung bis am vorhergehenden Montag unter Tel. 061 863 00 46. \nUnkostenbeitrag ca. Fr. 15.-
URL:https://teilhaben.ch/event/traff-zentrums-or-some-other-longer-title-2-2/2025-11-04/
LOCATION:ZentrumsTräff\, Wallbach\, 4323\, Switzerland
CATEGORIES:Zentrums Träff
ATTACH;FMTTYPE=image/jpeg:https://teilhaben.ch/wp-content/uploads/Tavolata-2-scaled-e1718354990620.jpg
ORGANIZER;CN="TEILHABEN":MAILTO:verein@teilhaben.ch
END:VEVENT
BEGIN:VEVENT
DTSTART;TZID=UTC:20251030T090000
DTEND;TZID=UTC:20251030T110000
DTSTAMP:20260420T061545
CREATED:20230816T110224Z
LAST-MODIFIED:20250630T082236Z
UID:10000452-1761814800-1761822000@teilhaben.ch
SUMMARY:Kafiegge
DESCRIPTION:Hier trifft sich wer andere treffen möchte; zum Kaffee trinken\, plaudern\, vorbeischauen\, mithelfen\, diskutieren\, informieren und entspannen. \n 
URL:https://teilhaben.ch/event/kafiegge/2025-10-30/
LOCATION:ZentrumsTräff\, Wallbach\, 4323\, Switzerland
CATEGORIES:Zentrums Träff
ATTACH;FMTTYPE=image/jpeg:https://teilhaben.ch/wp-content/uploads/Kafiegge-big.jpg
ORGANIZER;CN="TEILHABEN":MAILTO:verein@teilhaben.ch
END:VEVENT
BEGIN:VEVENT
DTSTART;TZID=UTC:20251029T100000
DTEND;TZID=UTC:20251029T170000
DTSTAMP:20260420T061545
CREATED:20250630T085235Z
LAST-MODIFIED:20250630T093536Z
UID:10000536-1761732000-1761757200@teilhaben.ch
SUMMARY:Ankerplatz Demenz
DESCRIPTION:Ein Freizeitangebot für alle\, die jung an Demenz erkrankt sind und gerne zusammen mit anderen Zeit verbringen möchten. \nBei Interesse freuen wir uns auf die Kontaktaufnahme und das Kennenlerngespräch. Tel. 061 863 00 46 oder Email an info@ankerplatz-demenz.ch \nWeitere Informationen finden sich auf der Webseite www.ankerplatz-demenz.ch
URL:https://teilhaben.ch/event/ankerplatz-demenz/2025-10-29/
LOCATION:ZentrumsTräff\, Wallbach\, 4323\, Switzerland
CATEGORIES:Zentrums Träff
ATTACH;FMTTYPE=image/png:https://teilhaben.ch/wp-content/uploads/Screenshot-2025-06-30-105030.png
ORGANIZER;CN="TEILHABEN":MAILTO:verein@teilhaben.ch
END:VEVENT
BEGIN:VEVENT
DTSTART;TZID=UTC:20251028T120000
DTEND;TZID=UTC:20251028T140000
DTSTAMP:20260420T061545
CREATED:20240628T050601Z
LAST-MODIFIED:20250630T084929Z
UID:10000522-1761652800-1761660000@teilhaben.ch
SUMMARY:Suppen z'Mittag
DESCRIPTION:In der kalten und dunklen Jahreszeit eine warme Suppe geniessen erwärmt Körper und Seele. \nWir bitten um Anmeldung bis am vorhergehenden Freitag unter Tel. 061 863 00 46 oder anmeldung@teilhaben.ch. \nDie Platzzahl ist beschränkt. Bitte mitteilen\, wenn eine vegetarische Suppe gewünscht wird. Richtpreis ins Kässeli: \nErwachsene Fr. 12.- \nKinder 6 – 18 Jahre Fr. 6.-  \nKinder 0 – 6 Jahre gratis
URL:https://teilhaben.ch/event/suppen-zmittag/2025-10-28/
LOCATION:ZentrumsTräff\, Wallbach\, 4323\, Switzerland
CATEGORIES:Zentrums Träff
ATTACH;FMTTYPE=image/png:https://teilhaben.ch/wp-content/uploads/Screenshot-2024-06-28-090956.png
ORGANIZER;CN="TEILHABEN":MAILTO:verein@teilhaben.ch
END:VEVENT
BEGIN:VEVENT
DTSTART;TZID=UTC:20251023T090000
DTEND;TZID=UTC:20251023T110000
DTSTAMP:20260420T061545
CREATED:20230816T110224Z
LAST-MODIFIED:20250630T082236Z
UID:10000451-1761210000-1761217200@teilhaben.ch
SUMMARY:Kafiegge
DESCRIPTION:Hier trifft sich wer andere treffen möchte; zum Kaffee trinken\, plaudern\, vorbeischauen\, mithelfen\, diskutieren\, informieren und entspannen. \n 
URL:https://teilhaben.ch/event/kafiegge/2025-10-23/
LOCATION:ZentrumsTräff\, Wallbach\, 4323\, Switzerland
CATEGORIES:Zentrums Träff
ATTACH;FMTTYPE=image/jpeg:https://teilhaben.ch/wp-content/uploads/Kafiegge-big.jpg
ORGANIZER;CN="TEILHABEN":MAILTO:verein@teilhaben.ch
END:VEVENT
BEGIN:VEVENT
DTSTART;TZID=UTC:20251022T100000
DTEND;TZID=UTC:20251022T170000
DTSTAMP:20260420T061545
CREATED:20250630T085235Z
LAST-MODIFIED:20250630T093536Z
UID:10000535-1761127200-1761152400@teilhaben.ch
SUMMARY:Ankerplatz Demenz
DESCRIPTION:Ein Freizeitangebot für alle\, die jung an Demenz erkrankt sind und gerne zusammen mit anderen Zeit verbringen möchten. \nBei Interesse freuen wir uns auf die Kontaktaufnahme und das Kennenlerngespräch. Tel. 061 863 00 46 oder Email an info@ankerplatz-demenz.ch \nWeitere Informationen finden sich auf der Webseite www.ankerplatz-demenz.ch
URL:https://teilhaben.ch/event/ankerplatz-demenz/2025-10-22/
LOCATION:ZentrumsTräff\, Wallbach\, 4323\, Switzerland
CATEGORIES:Zentrums Träff
ATTACH;FMTTYPE=image/png:https://teilhaben.ch/wp-content/uploads/Screenshot-2025-06-30-105030.png
ORGANIZER;CN="TEILHABEN":MAILTO:verein@teilhaben.ch
END:VEVENT
BEGIN:VEVENT
DTSTART;TZID=UTC:20251021T143000
DTEND;TZID=UTC:20251021T170000
DTSTAMP:20260420T061545
CREATED:20230816T112253Z
LAST-MODIFIED:20250630T083122Z
UID:10000493-1761057000-1761066000@teilhaben.ch
SUMMARY:Erzählcafé mit Dieter Roth sen.
DESCRIPTION:Einer Geschichte lauschen. Sich Anregungen holen. Zeit in Gesellschaft verbringen. Nicht allein sein. Gedankenaustausch pflegen. Mitdiskutieren oder einfach zuhören. In den Kaffeepausen plaudern. Erfahrungen sammeln bei Geselligkeit und Lebensfreude.
URL:https://teilhaben.ch/event/erzahlcafe-mit-dieter-roth-sen/2025-10-21/
LOCATION:ZentrumsTräff\, Wallbach\, 4323\, Switzerland
CATEGORIES:Zentrums Träff
ATTACH;FMTTYPE=image/jpeg:https://teilhaben.ch/wp-content/uploads/Erzahlcafe-big.jpg
ORGANIZER;CN="TEILHABEN":MAILTO:verein@teilhaben.ch
END:VEVENT
BEGIN:VEVENT
DTSTART;TZID=UTC:20251019T143000
DTEND;TZID=UTC:20251019T163000
DTSTAMP:20260420T061545
CREATED:20230820T161538Z
LAST-MODIFIED:20251009T072135Z
UID:10000582-1760884200-1760891400@teilhaben.ch
SUMMARY:Stubete
DESCRIPTION:Singen stärkt die Abwehrkräfte\, bringt den Kreislauf in Schwung und macht glücklich. \nDas Zusammensein am Nachmittag\, mit viel Musik\, entlässt dich beschwingt in den Sonntagabend.
URL:https://teilhaben.ch/event/stubete/2025-10-19/
CATEGORIES:Zentrums Träff
ATTACH;FMTTYPE=image/png:https://teilhaben.ch/wp-content/uploads/Stubete-2.png
END:VEVENT
BEGIN:VEVENT
DTSTART;TZID=UTC:20251016T090000
DTEND;TZID=UTC:20251016T110000
DTSTAMP:20260420T061545
CREATED:20230816T110224Z
LAST-MODIFIED:20250630T082236Z
UID:10000450-1760605200-1760612400@teilhaben.ch
SUMMARY:Kafiegge
DESCRIPTION:Hier trifft sich wer andere treffen möchte; zum Kaffee trinken\, plaudern\, vorbeischauen\, mithelfen\, diskutieren\, informieren und entspannen. \n 
URL:https://teilhaben.ch/event/kafiegge/2025-10-16/
LOCATION:ZentrumsTräff\, Wallbach\, 4323\, Switzerland
CATEGORIES:Zentrums Träff
ATTACH;FMTTYPE=image/jpeg:https://teilhaben.ch/wp-content/uploads/Kafiegge-big.jpg
ORGANIZER;CN="TEILHABEN":MAILTO:verein@teilhaben.ch
END:VEVENT
BEGIN:VEVENT
DTSTART;TZID=UTC:20251015T100000
DTEND;TZID=UTC:20251015T170000
DTSTAMP:20260420T061545
CREATED:20250630T085235Z
LAST-MODIFIED:20250630T093536Z
UID:10000534-1760522400-1760547600@teilhaben.ch
SUMMARY:Ankerplatz Demenz
DESCRIPTION:Ein Freizeitangebot für alle\, die jung an Demenz erkrankt sind und gerne zusammen mit anderen Zeit verbringen möchten. \nBei Interesse freuen wir uns auf die Kontaktaufnahme und das Kennenlerngespräch. Tel. 061 863 00 46 oder Email an info@ankerplatz-demenz.ch \nWeitere Informationen finden sich auf der Webseite www.ankerplatz-demenz.ch
URL:https://teilhaben.ch/event/ankerplatz-demenz/2025-10-15/
LOCATION:ZentrumsTräff\, Wallbach\, 4323\, Switzerland
CATEGORIES:Zentrums Träff
ATTACH;FMTTYPE=image/png:https://teilhaben.ch/wp-content/uploads/Screenshot-2025-06-30-105030.png
ORGANIZER;CN="TEILHABEN":MAILTO:verein@teilhaben.ch
END:VEVENT
BEGIN:VEVENT
DTSTART;TZID=UTC:20251014T140000
DTEND;TZID=UTC:20251014T163000
DTSTAMP:20260420T061545
CREATED:20230818T050105Z
LAST-MODIFIED:20260309T150515Z
UID:10000513-1760450400-1760459400@teilhaben.ch
SUMMARY:Nomittags-Kafi
DESCRIPTION:Am NOMITTAGS-KAFI hat alles Platz\, zum Beispiel…\n– Kaffee trinken\n– kurz oder länger verschnaufen\n– Leute treffen\n– spielen\, jassen\, stricken\n– einfach da sein
URL:https://teilhaben.ch/event/nomittags-kafi/2025-10-14/
LOCATION:ZentrumsTräff\, Wallbach\, 4323\, Switzerland
CATEGORIES:Zentrums Träff
ATTACH;FMTTYPE=image/jpeg:https://teilhaben.ch/wp-content/uploads/Screenshot-2025-06-30-104600.jpg
ORGANIZER;CN="TEILHABEN":MAILTO:verein@teilhaben.ch
END:VEVENT
BEGIN:VEVENT
DTSTART;TZID=UTC:20251009T090000
DTEND;TZID=UTC:20251009T110000
DTSTAMP:20260420T061545
CREATED:20230816T110224Z
LAST-MODIFIED:20250630T082236Z
UID:10000449-1760000400-1760007600@teilhaben.ch
SUMMARY:Kafiegge
DESCRIPTION:Hier trifft sich wer andere treffen möchte; zum Kaffee trinken\, plaudern\, vorbeischauen\, mithelfen\, diskutieren\, informieren und entspannen. \n 
URL:https://teilhaben.ch/event/kafiegge/2025-10-09/
LOCATION:ZentrumsTräff\, Wallbach\, 4323\, Switzerland
CATEGORIES:Zentrums Träff
ATTACH;FMTTYPE=image/jpeg:https://teilhaben.ch/wp-content/uploads/Kafiegge-big.jpg
ORGANIZER;CN="TEILHABEN":MAILTO:verein@teilhaben.ch
END:VEVENT
BEGIN:VEVENT
DTSTART;TZID=UTC:20251008T100000
DTEND;TZID=UTC:20251008T170000
DTSTAMP:20260420T061545
CREATED:20250630T085235Z
LAST-MODIFIED:20250630T093536Z
UID:10000533-1759917600-1759942800@teilhaben.ch
SUMMARY:Ankerplatz Demenz
DESCRIPTION:Ein Freizeitangebot für alle\, die jung an Demenz erkrankt sind und gerne zusammen mit anderen Zeit verbringen möchten. \nBei Interesse freuen wir uns auf die Kontaktaufnahme und das Kennenlerngespräch. Tel. 061 863 00 46 oder Email an info@ankerplatz-demenz.ch \nWeitere Informationen finden sich auf der Webseite www.ankerplatz-demenz.ch
URL:https://teilhaben.ch/event/ankerplatz-demenz/2025-10-08/
LOCATION:ZentrumsTräff\, Wallbach\, 4323\, Switzerland
CATEGORIES:Zentrums Träff
ATTACH;FMTTYPE=image/png:https://teilhaben.ch/wp-content/uploads/Screenshot-2025-06-30-105030.png
ORGANIZER;CN="TEILHABEN":MAILTO:verein@teilhaben.ch
END:VEVENT
BEGIN:VEVENT
DTSTART;TZID=UTC:20251007T103000
DTEND;TZID=UTC:20251007T140000
DTSTAMP:20260420T061546
CREATED:20250630T083302Z
LAST-MODIFIED:20250630T083647Z
UID:10000498-1759833000-1759845600@teilhaben.ch
SUMMARY:Tavolata
DESCRIPTION:Viele Köche verderben den Brei!? Im Gegenteil! Mit Unterstützung aller Teilnehmenden kochen wir leckere Gerichte und geniessen diese in fröhlicher Runde. \nMit der Bitte um Anmeldung bis am vorhergehenden Montag unter Tel. 061 863 00 46. \nUnkostenbeitrag ca. Fr. 15.-
URL:https://teilhaben.ch/event/traff-zentrums-or-some-other-longer-title-2-2/2025-10-07/
LOCATION:ZentrumsTräff\, Wallbach\, 4323\, Switzerland
CATEGORIES:Zentrums Träff
ATTACH;FMTTYPE=image/jpeg:https://teilhaben.ch/wp-content/uploads/Tavolata-2-scaled-e1718354990620.jpg
ORGANIZER;CN="TEILHABEN":MAILTO:verein@teilhaben.ch
END:VEVENT
BEGIN:VEVENT
DTSTART;TZID=UTC:20251002T090000
DTEND;TZID=UTC:20251002T110000
DTSTAMP:20260420T061546
CREATED:20230816T110224Z
LAST-MODIFIED:20250630T082236Z
UID:10000448-1759395600-1759402800@teilhaben.ch
SUMMARY:Kafiegge
DESCRIPTION:Hier trifft sich wer andere treffen möchte; zum Kaffee trinken\, plaudern\, vorbeischauen\, mithelfen\, diskutieren\, informieren und entspannen. \n 
URL:https://teilhaben.ch/event/kafiegge/2025-10-02/
LOCATION:ZentrumsTräff\, Wallbach\, 4323\, Switzerland
CATEGORIES:Zentrums Träff
ATTACH;FMTTYPE=image/jpeg:https://teilhaben.ch/wp-content/uploads/Kafiegge-big.jpg
ORGANIZER;CN="TEILHABEN":MAILTO:verein@teilhaben.ch
END:VEVENT
BEGIN:VEVENT
DTSTART;TZID=UTC:20251001T100000
DTEND;TZID=UTC:20251001T170000
DTSTAMP:20260420T061546
CREATED:20250630T085235Z
LAST-MODIFIED:20250630T093536Z
UID:10000532-1759312800-1759338000@teilhaben.ch
SUMMARY:Ankerplatz Demenz
DESCRIPTION:Ein Freizeitangebot für alle\, die jung an Demenz erkrankt sind und gerne zusammen mit anderen Zeit verbringen möchten. \nBei Interesse freuen wir uns auf die Kontaktaufnahme und das Kennenlerngespräch. Tel. 061 863 00 46 oder Email an info@ankerplatz-demenz.ch \nWeitere Informationen finden sich auf der Webseite www.ankerplatz-demenz.ch
URL:https://teilhaben.ch/event/ankerplatz-demenz/2025-10-01/
LOCATION:ZentrumsTräff\, Wallbach\, 4323\, Switzerland
CATEGORIES:Zentrums Träff
ATTACH;FMTTYPE=image/png:https://teilhaben.ch/wp-content/uploads/Screenshot-2025-06-30-105030.png
ORGANIZER;CN="TEILHABEN":MAILTO:verein@teilhaben.ch
END:VEVENT
BEGIN:VEVENT
DTSTART;TZID=UTC:20250928T100000
DTEND;TZID=UTC:20250928T110000
DTSTAMP:20260420T061546
CREATED:20230820T161931Z
LAST-MODIFIED:20250630T090834Z
UID:10000308-1759053600-1759057200@teilhaben.ch
SUMMARY:Segnungsfeier zum Welt-Alzheimertag
DESCRIPTION:Demenz – Mensch sein und bleiben \nSonntag\, 28. September 2025 um 10:00 Uhr in der christkatholischen Kirche\, Obermumpf \nIn unserer Gesellschaft ist das Thema Demenz allerorten präsent. Die Segnungsfeier richtet sich an Menschen\, die davon betroffen oder damit konfrontiert sind\, also grundsätzlich an uns alle. Gemeinsam wollen wir lernen\, die Persönlichkeit und das Wohlbefinden von Menschen mit Demenz in den Mittelpunkt aller Massnahmen zu stellen.
URL:https://teilhaben.ch/event/segnungsfeier-welt-alzheimertag/
LOCATION:Christkatholische Kirche Obermumpf
ATTACH;FMTTYPE=image/png:https://teilhaben.ch/wp-content/uploads/Screenshot-2025-06-30-110745.png
END:VEVENT
BEGIN:VEVENT
DTSTART;TZID=UTC:20250925T090000
DTEND;TZID=UTC:20250925T110000
DTSTAMP:20260420T061546
CREATED:20230816T110224Z
LAST-MODIFIED:20250630T082236Z
UID:10000447-1758790800-1758798000@teilhaben.ch
SUMMARY:Kafiegge
DESCRIPTION:Hier trifft sich wer andere treffen möchte; zum Kaffee trinken\, plaudern\, vorbeischauen\, mithelfen\, diskutieren\, informieren und entspannen. \n 
URL:https://teilhaben.ch/event/kafiegge/2025-09-25/
LOCATION:ZentrumsTräff\, Wallbach\, 4323\, Switzerland
CATEGORIES:Zentrums Träff
ATTACH;FMTTYPE=image/jpeg:https://teilhaben.ch/wp-content/uploads/Kafiegge-big.jpg
ORGANIZER;CN="TEILHABEN":MAILTO:verein@teilhaben.ch
END:VEVENT
BEGIN:VEVENT
DTSTART;TZID=UTC:20250924T100000
DTEND;TZID=UTC:20250924T170000
DTSTAMP:20260420T061546
CREATED:20250630T085235Z
LAST-MODIFIED:20250630T093536Z
UID:10000581-1758708000-1758733200@teilhaben.ch
SUMMARY:Ankerplatz Demenz
DESCRIPTION:Ein Freizeitangebot für alle\, die jung an Demenz erkrankt sind und gerne zusammen mit anderen Zeit verbringen möchten. \nBei Interesse freuen wir uns auf die Kontaktaufnahme und das Kennenlerngespräch. Tel. 061 863 00 46 oder Email an info@ankerplatz-demenz.ch \nWeitere Informationen finden sich auf der Webseite www.ankerplatz-demenz.ch
URL:https://teilhaben.ch/event/ankerplatz-demenz/2025-09-24/
LOCATION:ZentrumsTräff\, Wallbach\, 4323\, Switzerland
CATEGORIES:Zentrums Träff
ATTACH;FMTTYPE=image/png:https://teilhaben.ch/wp-content/uploads/Screenshot-2025-06-30-105030.png
ORGANIZER;CN="TEILHABEN":MAILTO:verein@teilhaben.ch
END:VEVENT
BEGIN:VEVENT
DTSTART;TZID=UTC:20250918T090000
DTEND;TZID=UTC:20250918T110000
DTSTAMP:20260420T061546
CREATED:20230816T110224Z
LAST-MODIFIED:20250630T082236Z
UID:10000446-1758186000-1758193200@teilhaben.ch
SUMMARY:Kafiegge
DESCRIPTION:Hier trifft sich wer andere treffen möchte; zum Kaffee trinken\, plaudern\, vorbeischauen\, mithelfen\, diskutieren\, informieren und entspannen. \n 
URL:https://teilhaben.ch/event/kafiegge/2025-09-18/
LOCATION:ZentrumsTräff\, Wallbach\, 4323\, Switzerland
CATEGORIES:Zentrums Träff
ATTACH;FMTTYPE=image/jpeg:https://teilhaben.ch/wp-content/uploads/Kafiegge-big.jpg
ORGANIZER;CN="TEILHABEN":MAILTO:verein@teilhaben.ch
END:VEVENT
BEGIN:VEVENT
DTSTART;TZID=UTC:20250917T100000
DTEND;TZID=UTC:20250917T170000
DTSTAMP:20260420T061546
CREATED:20250630T085235Z
LAST-MODIFIED:20250630T093536Z
UID:10000580-1758103200-1758128400@teilhaben.ch
SUMMARY:Ankerplatz Demenz
DESCRIPTION:Ein Freizeitangebot für alle\, die jung an Demenz erkrankt sind und gerne zusammen mit anderen Zeit verbringen möchten. \nBei Interesse freuen wir uns auf die Kontaktaufnahme und das Kennenlerngespräch. Tel. 061 863 00 46 oder Email an info@ankerplatz-demenz.ch \nWeitere Informationen finden sich auf der Webseite www.ankerplatz-demenz.ch
URL:https://teilhaben.ch/event/ankerplatz-demenz/2025-09-17/
LOCATION:ZentrumsTräff\, Wallbach\, 4323\, Switzerland
CATEGORIES:Zentrums Träff
ATTACH;FMTTYPE=image/png:https://teilhaben.ch/wp-content/uploads/Screenshot-2025-06-30-105030.png
ORGANIZER;CN="TEILHABEN":MAILTO:verein@teilhaben.ch
END:VEVENT
BEGIN:VEVENT
DTSTART;TZID=UTC:20250916T143000
DTEND;TZID=UTC:20250916T170000
DTSTAMP:20260420T061546
CREATED:20230816T112519Z
LAST-MODIFIED:20250630T082913Z
UID:10000487-1758033000-1758042000@teilhaben.ch
SUMMARY:Erzählcafé mit Heinz Lüthi
DESCRIPTION:Einer Geschichte lauschen. Sich Anregungen holen. Zeit in Gesellschaft verbringen. Nicht allein sein. Gedankenaustausch pflegen. Mitdiskutieren oder einfach zuhören. In den Kaffeepausen plaudern. Erfahrungen sammeln bei Geselligkeit und Lebensfreude.
URL:https://teilhaben.ch/event/erzahlcafe-mit-heinz-luthi/2025-09-16/
LOCATION:ZentrumsTräff\, Wallbach\, 4323\, Switzerland
CATEGORIES:Zentrums Träff
ATTACH;FMTTYPE=image/jpeg:https://teilhaben.ch/wp-content/uploads/Erzahlcafe-big.jpg
ORGANIZER;CN="TEILHABEN":MAILTO:verein@teilhaben.ch
END:VEVENT
BEGIN:VEVENT
DTSTART;TZID=UTC:20250911T090000
DTEND;TZID=UTC:20250911T110000
DTSTAMP:20260420T061546
CREATED:20230816T110224Z
LAST-MODIFIED:20250630T082236Z
UID:10000445-1757581200-1757588400@teilhaben.ch
SUMMARY:Kafiegge
DESCRIPTION:Hier trifft sich wer andere treffen möchte; zum Kaffee trinken\, plaudern\, vorbeischauen\, mithelfen\, diskutieren\, informieren und entspannen. \n 
URL:https://teilhaben.ch/event/kafiegge/2025-09-11/
LOCATION:ZentrumsTräff\, Wallbach\, 4323\, Switzerland
CATEGORIES:Zentrums Träff
ATTACH;FMTTYPE=image/jpeg:https://teilhaben.ch/wp-content/uploads/Kafiegge-big.jpg
ORGANIZER;CN="TEILHABEN":MAILTO:verein@teilhaben.ch
END:VEVENT
BEGIN:VEVENT
DTSTART;TZID=UTC:20250910T100000
DTEND;TZID=UTC:20250910T170000
DTSTAMP:20260420T061546
CREATED:20250630T085235Z
LAST-MODIFIED:20250630T093536Z
UID:10000579-1757498400-1757523600@teilhaben.ch
SUMMARY:Ankerplatz Demenz
DESCRIPTION:Ein Freizeitangebot für alle\, die jung an Demenz erkrankt sind und gerne zusammen mit anderen Zeit verbringen möchten. \nBei Interesse freuen wir uns auf die Kontaktaufnahme und das Kennenlerngespräch. Tel. 061 863 00 46 oder Email an info@ankerplatz-demenz.ch \nWeitere Informationen finden sich auf der Webseite www.ankerplatz-demenz.ch
URL:https://teilhaben.ch/event/ankerplatz-demenz/2025-09-10/
LOCATION:ZentrumsTräff\, Wallbach\, 4323\, Switzerland
CATEGORIES:Zentrums Träff
ATTACH;FMTTYPE=image/png:https://teilhaben.ch/wp-content/uploads/Screenshot-2025-06-30-105030.png
ORGANIZER;CN="TEILHABEN":MAILTO:verein@teilhaben.ch
END:VEVENT
BEGIN:VEVENT
DTSTART;TZID=UTC:20250909T140000
DTEND;TZID=UTC:20250909T163000
DTSTAMP:20260420T061546
CREATED:20230818T050105Z
LAST-MODIFIED:20260309T150515Z
UID:10000512-1757426400-1757435400@teilhaben.ch
SUMMARY:Nomittags-Kafi
DESCRIPTION:Am NOMITTAGS-KAFI hat alles Platz\, zum Beispiel…\n– Kaffee trinken\n– kurz oder länger verschnaufen\n– Leute treffen\n– spielen\, jassen\, stricken\n– einfach da sein
URL:https://teilhaben.ch/event/nomittags-kafi/2025-09-09/
LOCATION:ZentrumsTräff\, Wallbach\, 4323\, Switzerland
CATEGORIES:Zentrums Träff
ATTACH;FMTTYPE=image/jpeg:https://teilhaben.ch/wp-content/uploads/Screenshot-2025-06-30-104600.jpg
ORGANIZER;CN="TEILHABEN":MAILTO:verein@teilhaben.ch
END:VEVENT
BEGIN:VEVENT
DTSTART;TZID=UTC:20250904T090000
DTEND;TZID=UTC:20250904T110000
DTSTAMP:20260420T061546
CREATED:20230816T110224Z
LAST-MODIFIED:20250630T082236Z
UID:10000444-1756976400-1756983600@teilhaben.ch
SUMMARY:Kafiegge
DESCRIPTION:Hier trifft sich wer andere treffen möchte; zum Kaffee trinken\, plaudern\, vorbeischauen\, mithelfen\, diskutieren\, informieren und entspannen. \n 
URL:https://teilhaben.ch/event/kafiegge/2025-09-04/
LOCATION:ZentrumsTräff\, Wallbach\, 4323\, Switzerland
CATEGORIES:Zentrums Träff
ATTACH;FMTTYPE=image/jpeg:https://teilhaben.ch/wp-content/uploads/Kafiegge-big.jpg
ORGANIZER;CN="TEILHABEN":MAILTO:verein@teilhaben.ch
END:VEVENT
BEGIN:VEVENT
DTSTART;TZID=UTC:20250903T100000
DTEND;TZID=UTC:20250903T170000
DTSTAMP:20260420T061546
CREATED:20250630T085235Z
LAST-MODIFIED:20250630T093536Z
UID:10000578-1756893600-1756918800@teilhaben.ch
SUMMARY:Ankerplatz Demenz
DESCRIPTION:Ein Freizeitangebot für alle\, die jung an Demenz erkrankt sind und gerne zusammen mit anderen Zeit verbringen möchten. \nBei Interesse freuen wir uns auf die Kontaktaufnahme und das Kennenlerngespräch. Tel. 061 863 00 46 oder Email an info@ankerplatz-demenz.ch \nWeitere Informationen finden sich auf der Webseite www.ankerplatz-demenz.ch
URL:https://teilhaben.ch/event/ankerplatz-demenz/2025-09-03/
LOCATION:ZentrumsTräff\, Wallbach\, 4323\, Switzerland
CATEGORIES:Zentrums Träff
ATTACH;FMTTYPE=image/png:https://teilhaben.ch/wp-content/uploads/Screenshot-2025-06-30-105030.png
ORGANIZER;CN="TEILHABEN":MAILTO:verein@teilhaben.ch
END:VEVENT
END:VCALENDAR