BEGIN:VCALENDAR
VERSION:2.0
PRODID:-//TEILHABEN - ECPv6.15.20//NONSGML v1.0//EN
CALSCALE:GREGORIAN
METHOD:PUBLISH
X-WR-CALNAME:TEILHABEN
X-ORIGINAL-URL:https://teilhaben.ch
X-WR-CALDESC:Veranstaltungen im TEILHABEN
REFRESH-INTERVAL;VALUE=DURATION:PT1H
X-Robots-Tag:noindex
X-PUBLISHED-TTL:PT1H
BEGIN:VTIMEZONE
TZID:UTC
BEGIN:STANDARD
TZOFFSETFROM:+0000
TZOFFSETTO:+0000
TZNAME:UTC
DTSTART:20230101T000000
END:STANDARD
END:VTIMEZONE
BEGIN:VEVENT
DTSTART;TZID=UTC:20250928T100000
DTEND;TZID=UTC:20250928T110000
DTSTAMP:20260420T025618
CREATED:20230820T161931Z
LAST-MODIFIED:20250630T090834Z
UID:10000308-1759053600-1759057200@teilhaben.ch
SUMMARY:Segnungsfeier zum Welt-Alzheimertag
DESCRIPTION:Demenz – Mensch sein und bleiben \nSonntag\, 28. September 2025 um 10:00 Uhr in der christkatholischen Kirche\, Obermumpf \nIn unserer Gesellschaft ist das Thema Demenz allerorten präsent. Die Segnungsfeier richtet sich an Menschen\, die davon betroffen oder damit konfrontiert sind\, also grundsätzlich an uns alle. Gemeinsam wollen wir lernen\, die Persönlichkeit und das Wohlbefinden von Menschen mit Demenz in den Mittelpunkt aller Massnahmen zu stellen.
URL:https://teilhaben.ch/event/segnungsfeier-welt-alzheimertag/
LOCATION:Christkatholische Kirche Obermumpf
ATTACH;FMTTYPE=image/png:https://teilhaben.ch/wp-content/uploads/Screenshot-2025-06-30-110745.png
END:VEVENT
BEGIN:VEVENT
DTSTART;TZID=UTC:20250925T090000
DTEND;TZID=UTC:20250925T110000
DTSTAMP:20260420T025618
CREATED:20230816T110224Z
LAST-MODIFIED:20250630T082236Z
UID:10000447-1758790800-1758798000@teilhaben.ch
SUMMARY:Kafiegge
DESCRIPTION:Hier trifft sich wer andere treffen möchte; zum Kaffee trinken\, plaudern\, vorbeischauen\, mithelfen\, diskutieren\, informieren und entspannen. \n 
URL:https://teilhaben.ch/event/kafiegge/2025-09-25/
LOCATION:ZentrumsTräff\, Wallbach\, 4323\, Switzerland
CATEGORIES:Zentrums Träff
ATTACH;FMTTYPE=image/jpeg:https://teilhaben.ch/wp-content/uploads/Kafiegge-big.jpg
ORGANIZER;CN="TEILHABEN":MAILTO:verein@teilhaben.ch
END:VEVENT
BEGIN:VEVENT
DTSTART;TZID=UTC:20250924T100000
DTEND;TZID=UTC:20250924T170000
DTSTAMP:20260420T025618
CREATED:20250630T085235Z
LAST-MODIFIED:20250630T093536Z
UID:10000581-1758708000-1758733200@teilhaben.ch
SUMMARY:Ankerplatz Demenz
DESCRIPTION:Ein Freizeitangebot für alle\, die jung an Demenz erkrankt sind und gerne zusammen mit anderen Zeit verbringen möchten. \nBei Interesse freuen wir uns auf die Kontaktaufnahme und das Kennenlerngespräch. Tel. 061 863 00 46 oder Email an info@ankerplatz-demenz.ch \nWeitere Informationen finden sich auf der Webseite www.ankerplatz-demenz.ch
URL:https://teilhaben.ch/event/ankerplatz-demenz/2025-09-24/
LOCATION:ZentrumsTräff\, Wallbach\, 4323\, Switzerland
CATEGORIES:Zentrums Träff
ATTACH;FMTTYPE=image/png:https://teilhaben.ch/wp-content/uploads/Screenshot-2025-06-30-105030.png
ORGANIZER;CN="TEILHABEN":MAILTO:verein@teilhaben.ch
END:VEVENT
BEGIN:VEVENT
DTSTART;TZID=UTC:20250918T090000
DTEND;TZID=UTC:20250918T110000
DTSTAMP:20260420T025618
CREATED:20230816T110224Z
LAST-MODIFIED:20250630T082236Z
UID:10000446-1758186000-1758193200@teilhaben.ch
SUMMARY:Kafiegge
DESCRIPTION:Hier trifft sich wer andere treffen möchte; zum Kaffee trinken\, plaudern\, vorbeischauen\, mithelfen\, diskutieren\, informieren und entspannen. \n 
URL:https://teilhaben.ch/event/kafiegge/2025-09-18/
LOCATION:ZentrumsTräff\, Wallbach\, 4323\, Switzerland
CATEGORIES:Zentrums Träff
ATTACH;FMTTYPE=image/jpeg:https://teilhaben.ch/wp-content/uploads/Kafiegge-big.jpg
ORGANIZER;CN="TEILHABEN":MAILTO:verein@teilhaben.ch
END:VEVENT
BEGIN:VEVENT
DTSTART;TZID=UTC:20250917T100000
DTEND;TZID=UTC:20250917T170000
DTSTAMP:20260420T025618
CREATED:20250630T085235Z
LAST-MODIFIED:20250630T093536Z
UID:10000580-1758103200-1758128400@teilhaben.ch
SUMMARY:Ankerplatz Demenz
DESCRIPTION:Ein Freizeitangebot für alle\, die jung an Demenz erkrankt sind und gerne zusammen mit anderen Zeit verbringen möchten. \nBei Interesse freuen wir uns auf die Kontaktaufnahme und das Kennenlerngespräch. Tel. 061 863 00 46 oder Email an info@ankerplatz-demenz.ch \nWeitere Informationen finden sich auf der Webseite www.ankerplatz-demenz.ch
URL:https://teilhaben.ch/event/ankerplatz-demenz/2025-09-17/
LOCATION:ZentrumsTräff\, Wallbach\, 4323\, Switzerland
CATEGORIES:Zentrums Träff
ATTACH;FMTTYPE=image/png:https://teilhaben.ch/wp-content/uploads/Screenshot-2025-06-30-105030.png
ORGANIZER;CN="TEILHABEN":MAILTO:verein@teilhaben.ch
END:VEVENT
BEGIN:VEVENT
DTSTART;TZID=UTC:20250916T143000
DTEND;TZID=UTC:20250916T170000
DTSTAMP:20260420T025618
CREATED:20230816T112519Z
LAST-MODIFIED:20250630T082913Z
UID:10000487-1758033000-1758042000@teilhaben.ch
SUMMARY:Erzählcafé mit Heinz Lüthi
DESCRIPTION:Einer Geschichte lauschen. Sich Anregungen holen. Zeit in Gesellschaft verbringen. Nicht allein sein. Gedankenaustausch pflegen. Mitdiskutieren oder einfach zuhören. In den Kaffeepausen plaudern. Erfahrungen sammeln bei Geselligkeit und Lebensfreude.
URL:https://teilhaben.ch/event/erzahlcafe-mit-heinz-luthi/2025-09-16/
LOCATION:ZentrumsTräff\, Wallbach\, 4323\, Switzerland
CATEGORIES:Zentrums Träff
ATTACH;FMTTYPE=image/jpeg:https://teilhaben.ch/wp-content/uploads/Erzahlcafe-big.jpg
ORGANIZER;CN="TEILHABEN":MAILTO:verein@teilhaben.ch
END:VEVENT
BEGIN:VEVENT
DTSTART;TZID=UTC:20250911T090000
DTEND;TZID=UTC:20250911T110000
DTSTAMP:20260420T025618
CREATED:20230816T110224Z
LAST-MODIFIED:20250630T082236Z
UID:10000445-1757581200-1757588400@teilhaben.ch
SUMMARY:Kafiegge
DESCRIPTION:Hier trifft sich wer andere treffen möchte; zum Kaffee trinken\, plaudern\, vorbeischauen\, mithelfen\, diskutieren\, informieren und entspannen. \n 
URL:https://teilhaben.ch/event/kafiegge/2025-09-11/
LOCATION:ZentrumsTräff\, Wallbach\, 4323\, Switzerland
CATEGORIES:Zentrums Träff
ATTACH;FMTTYPE=image/jpeg:https://teilhaben.ch/wp-content/uploads/Kafiegge-big.jpg
ORGANIZER;CN="TEILHABEN":MAILTO:verein@teilhaben.ch
END:VEVENT
BEGIN:VEVENT
DTSTART;TZID=UTC:20250910T100000
DTEND;TZID=UTC:20250910T170000
DTSTAMP:20260420T025618
CREATED:20250630T085235Z
LAST-MODIFIED:20250630T093536Z
UID:10000579-1757498400-1757523600@teilhaben.ch
SUMMARY:Ankerplatz Demenz
DESCRIPTION:Ein Freizeitangebot für alle\, die jung an Demenz erkrankt sind und gerne zusammen mit anderen Zeit verbringen möchten. \nBei Interesse freuen wir uns auf die Kontaktaufnahme und das Kennenlerngespräch. Tel. 061 863 00 46 oder Email an info@ankerplatz-demenz.ch \nWeitere Informationen finden sich auf der Webseite www.ankerplatz-demenz.ch
URL:https://teilhaben.ch/event/ankerplatz-demenz/2025-09-10/
LOCATION:ZentrumsTräff\, Wallbach\, 4323\, Switzerland
CATEGORIES:Zentrums Träff
ATTACH;FMTTYPE=image/png:https://teilhaben.ch/wp-content/uploads/Screenshot-2025-06-30-105030.png
ORGANIZER;CN="TEILHABEN":MAILTO:verein@teilhaben.ch
END:VEVENT
BEGIN:VEVENT
DTSTART;TZID=UTC:20250909T140000
DTEND;TZID=UTC:20250909T163000
DTSTAMP:20260420T025618
CREATED:20230818T050105Z
LAST-MODIFIED:20260309T150515Z
UID:10000512-1757426400-1757435400@teilhaben.ch
SUMMARY:Nomittags-Kafi
DESCRIPTION:Am NOMITTAGS-KAFI hat alles Platz\, zum Beispiel…\n– Kaffee trinken\n– kurz oder länger verschnaufen\n– Leute treffen\n– spielen\, jassen\, stricken\n– einfach da sein
URL:https://teilhaben.ch/event/nomittags-kafi/2025-09-09/
LOCATION:ZentrumsTräff\, Wallbach\, 4323\, Switzerland
CATEGORIES:Zentrums Träff
ATTACH;FMTTYPE=image/jpeg:https://teilhaben.ch/wp-content/uploads/Screenshot-2025-06-30-104600.jpg
ORGANIZER;CN="TEILHABEN":MAILTO:verein@teilhaben.ch
END:VEVENT
BEGIN:VEVENT
DTSTART;TZID=UTC:20250904T090000
DTEND;TZID=UTC:20250904T110000
DTSTAMP:20260420T025618
CREATED:20230816T110224Z
LAST-MODIFIED:20250630T082236Z
UID:10000444-1756976400-1756983600@teilhaben.ch
SUMMARY:Kafiegge
DESCRIPTION:Hier trifft sich wer andere treffen möchte; zum Kaffee trinken\, plaudern\, vorbeischauen\, mithelfen\, diskutieren\, informieren und entspannen. \n 
URL:https://teilhaben.ch/event/kafiegge/2025-09-04/
LOCATION:ZentrumsTräff\, Wallbach\, 4323\, Switzerland
CATEGORIES:Zentrums Träff
ATTACH;FMTTYPE=image/jpeg:https://teilhaben.ch/wp-content/uploads/Kafiegge-big.jpg
ORGANIZER;CN="TEILHABEN":MAILTO:verein@teilhaben.ch
END:VEVENT
BEGIN:VEVENT
DTSTART;TZID=UTC:20250903T100000
DTEND;TZID=UTC:20250903T170000
DTSTAMP:20260420T025619
CREATED:20250630T085235Z
LAST-MODIFIED:20250630T093536Z
UID:10000578-1756893600-1756918800@teilhaben.ch
SUMMARY:Ankerplatz Demenz
DESCRIPTION:Ein Freizeitangebot für alle\, die jung an Demenz erkrankt sind und gerne zusammen mit anderen Zeit verbringen möchten. \nBei Interesse freuen wir uns auf die Kontaktaufnahme und das Kennenlerngespräch. Tel. 061 863 00 46 oder Email an info@ankerplatz-demenz.ch \nWeitere Informationen finden sich auf der Webseite www.ankerplatz-demenz.ch
URL:https://teilhaben.ch/event/ankerplatz-demenz/2025-09-03/
LOCATION:ZentrumsTräff\, Wallbach\, 4323\, Switzerland
CATEGORIES:Zentrums Träff
ATTACH;FMTTYPE=image/png:https://teilhaben.ch/wp-content/uploads/Screenshot-2025-06-30-105030.png
ORGANIZER;CN="TEILHABEN":MAILTO:verein@teilhaben.ch
END:VEVENT
BEGIN:VEVENT
DTSTART;TZID=UTC:20250902T103000
DTEND;TZID=UTC:20250902T140000
DTSTAMP:20260420T025619
CREATED:20250630T083302Z
LAST-MODIFIED:20250630T083647Z
UID:10000354-1756809000-1756821600@teilhaben.ch
SUMMARY:Tavolata
DESCRIPTION:Viele Köche verderben den Brei!? Im Gegenteil! Mit Unterstützung aller Teilnehmenden kochen wir leckere Gerichte und geniessen diese in fröhlicher Runde. \nMit der Bitte um Anmeldung bis am vorhergehenden Montag unter Tel. 061 863 00 46. \nUnkostenbeitrag ca. Fr. 15.-
URL:https://teilhaben.ch/event/traff-zentrums-or-some-other-longer-title-2-2/2025-09-02/
LOCATION:ZentrumsTräff\, Wallbach\, 4323\, Switzerland
CATEGORIES:Zentrums Träff
ATTACH;FMTTYPE=image/jpeg:https://teilhaben.ch/wp-content/uploads/Tavolata-2-scaled-e1718354990620.jpg
ORGANIZER;CN="TEILHABEN":MAILTO:verein@teilhaben.ch
END:VEVENT
BEGIN:VEVENT
DTSTART;TZID=UTC:20250828T090000
DTEND;TZID=UTC:20250828T110000
DTSTAMP:20260420T025619
CREATED:20230816T110224Z
LAST-MODIFIED:20250630T082236Z
UID:10000443-1756371600-1756378800@teilhaben.ch
SUMMARY:Kafiegge
DESCRIPTION:Hier trifft sich wer andere treffen möchte; zum Kaffee trinken\, plaudern\, vorbeischauen\, mithelfen\, diskutieren\, informieren und entspannen. \n 
URL:https://teilhaben.ch/event/kafiegge/2025-08-28/
LOCATION:ZentrumsTräff\, Wallbach\, 4323\, Switzerland
CATEGORIES:Zentrums Träff
ATTACH;FMTTYPE=image/jpeg:https://teilhaben.ch/wp-content/uploads/Kafiegge-big.jpg
ORGANIZER;CN="TEILHABEN":MAILTO:verein@teilhaben.ch
END:VEVENT
BEGIN:VEVENT
DTSTART;TZID=UTC:20250821T090000
DTEND;TZID=UTC:20250821T110000
DTSTAMP:20260420T025619
CREATED:20230816T110224Z
LAST-MODIFIED:20250630T082236Z
UID:10000442-1755766800-1755774000@teilhaben.ch
SUMMARY:Kafiegge
DESCRIPTION:Hier trifft sich wer andere treffen möchte; zum Kaffee trinken\, plaudern\, vorbeischauen\, mithelfen\, diskutieren\, informieren und entspannen. \n 
URL:https://teilhaben.ch/event/kafiegge/2025-08-21/
LOCATION:ZentrumsTräff\, Wallbach\, 4323\, Switzerland
CATEGORIES:Zentrums Träff
ATTACH;FMTTYPE=image/jpeg:https://teilhaben.ch/wp-content/uploads/Kafiegge-big.jpg
ORGANIZER;CN="TEILHABEN":MAILTO:verein@teilhaben.ch
END:VEVENT
BEGIN:VEVENT
DTSTART;TZID=UTC:20250814T090000
DTEND;TZID=UTC:20250814T110000
DTSTAMP:20260420T025619
CREATED:20230816T110224Z
LAST-MODIFIED:20250630T082236Z
UID:10000441-1755162000-1755169200@teilhaben.ch
SUMMARY:Kafiegge
DESCRIPTION:Hier trifft sich wer andere treffen möchte; zum Kaffee trinken\, plaudern\, vorbeischauen\, mithelfen\, diskutieren\, informieren und entspannen. \n 
URL:https://teilhaben.ch/event/kafiegge/2025-08-14/
LOCATION:ZentrumsTräff\, Wallbach\, 4323\, Switzerland
CATEGORIES:Zentrums Träff
ATTACH;FMTTYPE=image/jpeg:https://teilhaben.ch/wp-content/uploads/Kafiegge-big.jpg
ORGANIZER;CN="TEILHABEN":MAILTO:verein@teilhaben.ch
END:VEVENT
BEGIN:VEVENT
DTSTART;TZID=UTC:20250807T090000
DTEND;TZID=UTC:20250807T110000
DTSTAMP:20260420T025619
CREATED:20230816T110224Z
LAST-MODIFIED:20250630T082236Z
UID:10000440-1754557200-1754564400@teilhaben.ch
SUMMARY:Kafiegge
DESCRIPTION:Hier trifft sich wer andere treffen möchte; zum Kaffee trinken\, plaudern\, vorbeischauen\, mithelfen\, diskutieren\, informieren und entspannen. \n 
URL:https://teilhaben.ch/event/kafiegge/2025-08-07/
LOCATION:ZentrumsTräff\, Wallbach\, 4323\, Switzerland
CATEGORIES:Zentrums Träff
ATTACH;FMTTYPE=image/jpeg:https://teilhaben.ch/wp-content/uploads/Kafiegge-big.jpg
ORGANIZER;CN="TEILHABEN":MAILTO:verein@teilhaben.ch
END:VEVENT
BEGIN:VEVENT
DTSTART;TZID=UTC:20250731T090000
DTEND;TZID=UTC:20250731T110000
DTSTAMP:20260420T025619
CREATED:20230816T110224Z
LAST-MODIFIED:20250630T082236Z
UID:10000439-1753952400-1753959600@teilhaben.ch
SUMMARY:Kafiegge
DESCRIPTION:Hier trifft sich wer andere treffen möchte; zum Kaffee trinken\, plaudern\, vorbeischauen\, mithelfen\, diskutieren\, informieren und entspannen. \n 
URL:https://teilhaben.ch/event/kafiegge/2025-07-31/
LOCATION:ZentrumsTräff\, Wallbach\, 4323\, Switzerland
CATEGORIES:Zentrums Träff
ATTACH;FMTTYPE=image/jpeg:https://teilhaben.ch/wp-content/uploads/Kafiegge-big.jpg
ORGANIZER;CN="TEILHABEN":MAILTO:verein@teilhaben.ch
END:VEVENT
BEGIN:VEVENT
DTSTART;TZID=UTC:20250724T090000
DTEND;TZID=UTC:20250724T110000
DTSTAMP:20260420T025619
CREATED:20230816T110224Z
LAST-MODIFIED:20250630T082236Z
UID:10000438-1753347600-1753354800@teilhaben.ch
SUMMARY:Kafiegge
DESCRIPTION:Hier trifft sich wer andere treffen möchte; zum Kaffee trinken\, plaudern\, vorbeischauen\, mithelfen\, diskutieren\, informieren und entspannen. \n 
URL:https://teilhaben.ch/event/kafiegge/2025-07-24/
LOCATION:ZentrumsTräff\, Wallbach\, 4323\, Switzerland
CATEGORIES:Zentrums Träff
ATTACH;FMTTYPE=image/jpeg:https://teilhaben.ch/wp-content/uploads/Kafiegge-big.jpg
ORGANIZER;CN="TEILHABEN":MAILTO:verein@teilhaben.ch
END:VEVENT
BEGIN:VEVENT
DTSTART;TZID=UTC:20250717T090000
DTEND;TZID=UTC:20250717T110000
DTSTAMP:20260420T025619
CREATED:20230816T110224Z
LAST-MODIFIED:20250630T082236Z
UID:10000437-1752742800-1752750000@teilhaben.ch
SUMMARY:Kafiegge
DESCRIPTION:Hier trifft sich wer andere treffen möchte; zum Kaffee trinken\, plaudern\, vorbeischauen\, mithelfen\, diskutieren\, informieren und entspannen. \n 
URL:https://teilhaben.ch/event/kafiegge/2025-07-17/
LOCATION:ZentrumsTräff\, Wallbach\, 4323\, Switzerland
CATEGORIES:Zentrums Träff
ATTACH;FMTTYPE=image/jpeg:https://teilhaben.ch/wp-content/uploads/Kafiegge-big.jpg
ORGANIZER;CN="TEILHABEN":MAILTO:verein@teilhaben.ch
END:VEVENT
BEGIN:VEVENT
DTSTART;TZID=UTC:20250710T090000
DTEND;TZID=UTC:20250710T110000
DTSTAMP:20260420T025619
CREATED:20230816T110224Z
LAST-MODIFIED:20250630T082236Z
UID:10000436-1752138000-1752145200@teilhaben.ch
SUMMARY:Kafiegge
DESCRIPTION:Hier trifft sich wer andere treffen möchte; zum Kaffee trinken\, plaudern\, vorbeischauen\, mithelfen\, diskutieren\, informieren und entspannen. \n 
URL:https://teilhaben.ch/event/kafiegge/2025-07-10/
LOCATION:ZentrumsTräff\, Wallbach\, 4323\, Switzerland
CATEGORIES:Zentrums Träff
ATTACH;FMTTYPE=image/jpeg:https://teilhaben.ch/wp-content/uploads/Kafiegge-big.jpg
ORGANIZER;CN="TEILHABEN":MAILTO:verein@teilhaben.ch
END:VEVENT
BEGIN:VEVENT
DTSTART;TZID=UTC:20250703T090000
DTEND;TZID=UTC:20250703T110000
DTSTAMP:20260420T025619
CREATED:20230816T110224Z
LAST-MODIFIED:20250630T082236Z
UID:10000486-1751533200-1751540400@teilhaben.ch
SUMMARY:Kafiegge
DESCRIPTION:Hier trifft sich wer andere treffen möchte; zum Kaffee trinken\, plaudern\, vorbeischauen\, mithelfen\, diskutieren\, informieren und entspannen. \n 
URL:https://teilhaben.ch/event/kafiegge/2025-07-03/
LOCATION:ZentrumsTräff\, Wallbach\, 4323\, Switzerland
CATEGORIES:Zentrums Träff
ATTACH;FMTTYPE=image/jpeg:https://teilhaben.ch/wp-content/uploads/Kafiegge-big.jpg
ORGANIZER;CN="TEILHABEN":MAILTO:verein@teilhaben.ch
END:VEVENT
BEGIN:VEVENT
DTSTART;TZID=UTC:20250506T103000
DTEND;TZID=UTC:20250506T140000
DTSTAMP:20260420T025619
CREATED:20240614T065007Z
LAST-MODIFIED:20250630T083224Z
UID:10000353-1746527400-1746540000@teilhaben.ch
SUMMARY:Tavolata
DESCRIPTION:Viele Köche verderben den Brei!? Im Gegenteil! Mit Unterstützung aller Teilnehmenden kochen wir leckere Gerichte und geniessen diese in fröhlicher Runde. \nMit der Bitte um Anmeldung bis am vorhergehenden Montag unter Tel. 061 863 00 46. \nUnkostenbeitrag ca. Fr. 15.-
URL:https://teilhaben.ch/event/traff-zentrums-or-some-other-longer-title-2/2025-05-06/
LOCATION:ZentrumsTräff\, Wallbach\, 4323\, Switzerland
CATEGORIES:Zentrums Träff
ATTACH;FMTTYPE=image/jpeg:https://teilhaben.ch/wp-content/uploads/Tavolata-2-scaled-e1718354990620.jpg
ORGANIZER;CN="TEILHABEN":MAILTO:verein@teilhaben.ch
END:VEVENT
BEGIN:VEVENT
DTSTART;TZID=UTC:20250401T103000
DTEND;TZID=UTC:20250401T140000
DTSTAMP:20260420T025619
CREATED:20240614T065007Z
LAST-MODIFIED:20250630T083224Z
UID:10000352-1743503400-1743516000@teilhaben.ch
SUMMARY:Tavolata
DESCRIPTION:Viele Köche verderben den Brei!? Im Gegenteil! Mit Unterstützung aller Teilnehmenden kochen wir leckere Gerichte und geniessen diese in fröhlicher Runde. \nMit der Bitte um Anmeldung bis am vorhergehenden Montag unter Tel. 061 863 00 46. \nUnkostenbeitrag ca. Fr. 15.-
URL:https://teilhaben.ch/event/traff-zentrums-or-some-other-longer-title-2/2025-04-01/
LOCATION:ZentrumsTräff\, Wallbach\, 4323\, Switzerland
CATEGORIES:Zentrums Träff
ATTACH;FMTTYPE=image/jpeg:https://teilhaben.ch/wp-content/uploads/Tavolata-2-scaled-e1718354990620.jpg
ORGANIZER;CN="TEILHABEN":MAILTO:verein@teilhaben.ch
END:VEVENT
BEGIN:VEVENT
DTSTART;TZID=UTC:20250304T103000
DTEND;TZID=UTC:20250304T140000
DTSTAMP:20260420T025619
CREATED:20240614T065007Z
LAST-MODIFIED:20250630T083224Z
UID:10000351-1741084200-1741096800@teilhaben.ch
SUMMARY:Tavolata
DESCRIPTION:Viele Köche verderben den Brei!? Im Gegenteil! Mit Unterstützung aller Teilnehmenden kochen wir leckere Gerichte und geniessen diese in fröhlicher Runde. \nMit der Bitte um Anmeldung bis am vorhergehenden Montag unter Tel. 061 863 00 46. \nUnkostenbeitrag ca. Fr. 15.-
URL:https://teilhaben.ch/event/traff-zentrums-or-some-other-longer-title-2/2025-03-04/
LOCATION:ZentrumsTräff\, Wallbach\, 4323\, Switzerland
CATEGORIES:Zentrums Träff
ATTACH;FMTTYPE=image/jpeg:https://teilhaben.ch/wp-content/uploads/Tavolata-2-scaled-e1718354990620.jpg
ORGANIZER;CN="TEILHABEN":MAILTO:verein@teilhaben.ch
END:VEVENT
BEGIN:VEVENT
DTSTART;TZID=UTC:20250204T103000
DTEND;TZID=UTC:20250204T140000
DTSTAMP:20260420T025619
CREATED:20240614T065007Z
LAST-MODIFIED:20250630T083224Z
UID:10000350-1738665000-1738677600@teilhaben.ch
SUMMARY:Tavolata
DESCRIPTION:Viele Köche verderben den Brei!? Im Gegenteil! Mit Unterstützung aller Teilnehmenden kochen wir leckere Gerichte und geniessen diese in fröhlicher Runde. \nMit der Bitte um Anmeldung bis am vorhergehenden Montag unter Tel. 061 863 00 46. \nUnkostenbeitrag ca. Fr. 15.-
URL:https://teilhaben.ch/event/traff-zentrums-or-some-other-longer-title-2/2025-02-04/
LOCATION:ZentrumsTräff\, Wallbach\, 4323\, Switzerland
CATEGORIES:Zentrums Träff
ATTACH;FMTTYPE=image/jpeg:https://teilhaben.ch/wp-content/uploads/Tavolata-2-scaled-e1718354990620.jpg
ORGANIZER;CN="TEILHABEN":MAILTO:verein@teilhaben.ch
END:VEVENT
BEGIN:VEVENT
DTSTART;TZID=UTC:20250107T103000
DTEND;TZID=UTC:20250107T140000
DTSTAMP:20260420T025619
CREATED:20240614T065007Z
LAST-MODIFIED:20250630T083224Z
UID:10000349-1736245800-1736258400@teilhaben.ch
SUMMARY:Tavolata
DESCRIPTION:Viele Köche verderben den Brei!? Im Gegenteil! Mit Unterstützung aller Teilnehmenden kochen wir leckere Gerichte und geniessen diese in fröhlicher Runde. \nMit der Bitte um Anmeldung bis am vorhergehenden Montag unter Tel. 061 863 00 46. \nUnkostenbeitrag ca. Fr. 15.-
URL:https://teilhaben.ch/event/traff-zentrums-or-some-other-longer-title-2/2025-01-07/
LOCATION:ZentrumsTräff\, Wallbach\, 4323\, Switzerland
CATEGORIES:Zentrums Träff
ATTACH;FMTTYPE=image/jpeg:https://teilhaben.ch/wp-content/uploads/Tavolata-2-scaled-e1718354990620.jpg
ORGANIZER;CN="TEILHABEN":MAILTO:verein@teilhaben.ch
END:VEVENT
BEGIN:VEVENT
DTSTART;TZID=UTC:20241203T103000
DTEND;TZID=UTC:20241203T140000
DTSTAMP:20260420T025619
CREATED:20240614T065007Z
LAST-MODIFIED:20250630T083224Z
UID:10000348-1733221800-1733234400@teilhaben.ch
SUMMARY:Tavolata
DESCRIPTION:Viele Köche verderben den Brei!? Im Gegenteil! Mit Unterstützung aller Teilnehmenden kochen wir leckere Gerichte und geniessen diese in fröhlicher Runde. \nMit der Bitte um Anmeldung bis am vorhergehenden Montag unter Tel. 061 863 00 46. \nUnkostenbeitrag ca. Fr. 15.-
URL:https://teilhaben.ch/event/traff-zentrums-or-some-other-longer-title-2/2024-12-03/
LOCATION:ZentrumsTräff\, Wallbach\, 4323\, Switzerland
CATEGORIES:Zentrums Träff
ATTACH;FMTTYPE=image/jpeg:https://teilhaben.ch/wp-content/uploads/Tavolata-2-scaled-e1718354990620.jpg
ORGANIZER;CN="TEILHABEN":MAILTO:verein@teilhaben.ch
END:VEVENT
BEGIN:VEVENT
DTSTART;TZID=UTC:20241119T143000
DTEND;TZID=UTC:20241119T170000
DTSTAMP:20260420T025619
CREATED:20230816T112253Z
LAST-MODIFIED:20250630T083122Z
UID:10000393-1732026600-1732035600@teilhaben.ch
SUMMARY:Erzählcafé mit Dieter Roth sen.
DESCRIPTION:Einer Geschichte lauschen. Sich Anregungen holen. Zeit in Gesellschaft verbringen. Nicht allein sein. Gedankenaustausch pflegen. Mitdiskutieren oder einfach zuhören. In den Kaffeepausen plaudern. Erfahrungen sammeln bei Geselligkeit und Lebensfreude.
URL:https://teilhaben.ch/event/erzahlcafe-mit-dieter-roth-sen/2024-11-19/
LOCATION:ZentrumsTräff\, Wallbach\, 4323\, Switzerland
CATEGORIES:Zentrums Träff
ATTACH;FMTTYPE=image/jpeg:https://teilhaben.ch/wp-content/uploads/Erzahlcafe-big.jpg
ORGANIZER;CN="TEILHABEN":MAILTO:verein@teilhaben.ch
END:VEVENT
BEGIN:VEVENT
DTSTART;TZID=UTC:20241105T103000
DTEND;TZID=UTC:20241105T140000
DTSTAMP:20260420T025619
CREATED:20240614T065007Z
LAST-MODIFIED:20250630T083224Z
UID:10000347-1730802600-1730815200@teilhaben.ch
SUMMARY:Tavolata
DESCRIPTION:Viele Köche verderben den Brei!? Im Gegenteil! Mit Unterstützung aller Teilnehmenden kochen wir leckere Gerichte und geniessen diese in fröhlicher Runde. \nMit der Bitte um Anmeldung bis am vorhergehenden Montag unter Tel. 061 863 00 46. \nUnkostenbeitrag ca. Fr. 15.-
URL:https://teilhaben.ch/event/traff-zentrums-or-some-other-longer-title-2/2024-11-05/
LOCATION:ZentrumsTräff\, Wallbach\, 4323\, Switzerland
CATEGORIES:Zentrums Träff
ATTACH;FMTTYPE=image/jpeg:https://teilhaben.ch/wp-content/uploads/Tavolata-2-scaled-e1718354990620.jpg
ORGANIZER;CN="TEILHABEN":MAILTO:verein@teilhaben.ch
END:VEVENT
BEGIN:VEVENT
DTSTART;TZID=UTC:20241027T143000
DTEND;TZID=UTC:20241027T163000
DTSTAMP:20260420T025619
CREATED:20250630T090410Z
LAST-MODIFIED:20250630T090410Z
UID:10000569-1730039400-1730046600@teilhaben.ch
SUMMARY:Adventsstubete
DESCRIPTION:Singen stärkt die Abwehrkräfte\, bringt den Kreislauf in Schwung und macht glücklich. \nDas Zusammensein am Nachmittag\, mit viel Musik\, entlässt dich beschwingt in den Sonntagabend.
URL:https://teilhaben.ch/event/adventsstubete/2024-10-27/
CATEGORIES:Zentrums Träff
ATTACH;FMTTYPE=image/png:https://teilhaben.ch/wp-content/uploads/Stubete-2.png
END:VEVENT
END:VCALENDAR