BEGIN:VCALENDAR
VERSION:2.0
PRODID:-//TEILHABEN - ECPv6.15.20//NONSGML v1.0//EN
CALSCALE:GREGORIAN
METHOD:PUBLISH
X-WR-CALNAME:TEILHABEN
X-ORIGINAL-URL:https://teilhaben.ch
X-WR-CALDESC:Veranstaltungen im TEILHABEN
REFRESH-INTERVAL;VALUE=DURATION:PT1H
X-Robots-Tag:noindex
X-PUBLISHED-TTL:PT1H
BEGIN:VTIMEZONE
TZID:UTC
BEGIN:STANDARD
TZOFFSETFROM:+0000
TZOFFSETTO:+0000
TZNAME:UTC
DTSTART:20250101T000000
END:STANDARD
END:VTIMEZONE
BEGIN:VEVENT
DTSTART;TZID=UTC:20260121T100000
DTEND;TZID=UTC:20260121T170000
DTSTAMP:20260419T182533
CREATED:20250630T085235Z
LAST-MODIFIED:20250630T093536Z
UID:10000546-1768989600-1769014800@teilhaben.ch
SUMMARY:Ankerplatz Demenz
DESCRIPTION:Ein Freizeitangebot für alle\, die jung an Demenz erkrankt sind und gerne zusammen mit anderen Zeit verbringen möchten. \nBei Interesse freuen wir uns auf die Kontaktaufnahme und das Kennenlerngespräch. Tel. 061 863 00 46 oder Email an info@ankerplatz-demenz.ch \nWeitere Informationen finden sich auf der Webseite www.ankerplatz-demenz.ch
URL:https://teilhaben.ch/event/ankerplatz-demenz/2026-01-21/
LOCATION:ZentrumsTräff\, Wallbach\, 4323\, Switzerland
CATEGORIES:Zentrums Träff
ATTACH;FMTTYPE=image/png:https://teilhaben.ch/wp-content/uploads/Screenshot-2025-06-30-105030.png
ORGANIZER;CN="TEILHABEN":MAILTO:verein@teilhaben.ch
END:VEVENT
BEGIN:VEVENT
DTSTART;TZID=UTC:20260121T143000
DTEND;TZID=UTC:20260121T170000
DTSTAMP:20260419T182533
CREATED:20230816T112519Z
LAST-MODIFIED:20250630T082913Z
UID:10000490-1769005800-1769014800@teilhaben.ch
SUMMARY:Erzählcafé mit Heinz Lüthi
DESCRIPTION:Einer Geschichte lauschen. Sich Anregungen holen. Zeit in Gesellschaft verbringen. Nicht allein sein. Gedankenaustausch pflegen. Mitdiskutieren oder einfach zuhören. In den Kaffeepausen plaudern. Erfahrungen sammeln bei Geselligkeit und Lebensfreude.
URL:https://teilhaben.ch/event/erzahlcafe-mit-heinz-luthi/2026-01-21/
LOCATION:ZentrumsTräff\, Wallbach\, 4323\, Switzerland
CATEGORIES:Zentrums Träff
ATTACH;FMTTYPE=image/jpeg:https://teilhaben.ch/wp-content/uploads/Erzahlcafe-big.jpg
ORGANIZER;CN="TEILHABEN":MAILTO:verein@teilhaben.ch
END:VEVENT
END:VCALENDAR